BEGIN:VCALENDAR
VERSION:2.0
BEGIN:VEVENT
UID:C9563285-5048-453C-8A46-FD2457CA8939
DTSTART:20250503T080000Z
DTEND:20250503T110000Z
SUMMARY:Hope Starts Here 5K
DESCRIPTION:Get ready to lace up your running shoes for Southwest Transplan
 t Alliance's Hope Starts Here 5K on Saturday\, May 3\, 2025\, at Klyde War
 ren Park in Dallas! This uplifting event kicks off at 8 a.m. and invites p
 articipants of all ages to run or walk in honor of selfless donor heroes w
 hile celebrating the precious gift of life. Join the community in a family
 -friendly atmosphere\, where you can pay tribute to your loved ones by pla
 cing a framed picture on the Wall of Hope in our special donor memorial te
 nt. \nWhether you're a seasoned runner or just looking for a fun way to su
 pport a great cause\, the Hope Starts Here 5K is the perfect opportunity t
 o get involved. Create or join a team during the registration process and
  make meaningful memories with friends and family. Don’t miss out on this
  chance to make a difference and be part of a heartwarming day dedicated t
 o hope and gratitude! \nTo learn more and to register\, visit organ.org/ho
 pestartshere5k.\nKlyde Warren Park\n2051 N. Pearl St.\nDallas\, TX 75201 U
 nited States\n
LOCATION:2051 N. Pearl St.\, Dallas\, TX 75201
URL:http://allen.bubblelife.com/community/allen_calendar/library/35660962/k
 ey/3511399133/Hope_Starts_Here_5K
CREATED:20250311T191157Z
LAST-MODIFIED:20250311T191157Z
DTSTAMP:20260423T001905Z
CLASS:PUBLIC
STATUS:CONFIRMED
TRANSP:TRANSPARENT
SEQUENCE:1
END:VEVENT
END:VCALENDAR
