BEGIN:VCALENDAR
VERSION:2.0
BEGIN:VEVENT
UID:E0C1DF04-4C2E-4DD5-8325-B403AA2F2E69
DTSTART:20260423T193000Z
DTEND:20260423T203000Z
SUMMARY:Allen’s African Americans discuss their history
DESCRIPTION:As part of Allen’s 150 th celebration\, a panel of African Amer
 icans raised in Allen during the 1960s\, 70s\, and 80s will share their ex
 periences at 7:30 p.m.\, Thursday\, April 23\, at the Allen Public Library
 . This group will reminisce about life in Allen when it was transitioning
  from a rural to an urban environment. Topics will include their education
 \, employment\, people who influenced their lives\, what they did for ente
 rtainment\, employment\, heroes\, challenges\, their legacy and more.  Spo
 nsored by the Allen Public Library\, the program is free.  The library is
  located at 300 N. Allen Dr.  Call 214-509-4911 for additional information
 \nAllen Public Library\n300 N. Allen Dr.\nAllen\, TX 75002 United States\n
LOCATION:300 N. Allen Dr.\, Allen\, TX 75002
URL:http://allen.bubblelife.com/community/allen_calendar/library/35660962/k
 ey/3511778910/Allens_African_Americans_discuss_their_history
CREATED:20260421T213501Z
LAST-MODIFIED:20260421T213501Z
DTSTAMP:20260422T014735Z
CLASS:PUBLIC
STATUS:CONFIRMED
TRANSP:TRANSPARENT
SEQUENCE:1
END:VEVENT
END:VCALENDAR
